BEGIN:VCALENDAR
VERSION:2.0
PRODID:-//Graine de Marmotte - ECPv6.15.17.1//NONSGML v1.0//EN
CALSCALE:GREGORIAN
METHOD:PUBLISH
X-WR-CALNAME:Graine de Marmotte
X-ORIGINAL-URL:https://grainedemarmotte.com
X-WR-CALDESC:Évènements pour Graine de Marmotte
REFRESH-INTERVAL;VALUE=DURATION:PT1H
X-Robots-Tag:noindex
X-PUBLISHED-TTL:PT1H
BEGIN:VTIMEZONE
TZID:Europe/Zurich
BEGIN:DAYLIGHT
TZOFFSETFROM:+0100
TZOFFSETTO:+0200
TZNAME:CEST
DTSTART:20250330T010000
END:DAYLIGHT
BEGIN:STANDARD
TZOFFSETFROM:+0200
TZOFFSETTO:+0100
TZNAME:CET
DTSTART:20251026T010000
END:STANDARD
BEGIN:DAYLIGHT
TZOFFSETFROM:+0100
TZOFFSETTO:+0200
TZNAME:CEST
DTSTART:20260329T010000
END:DAYLIGHT
BEGIN:STANDARD
TZOFFSETFROM:+0200
TZOFFSETTO:+0100
TZNAME:CET
DTSTART:20261025T010000
END:STANDARD
BEGIN:DAYLIGHT
TZOFFSETFROM:+0100
TZOFFSETTO:+0200
TZNAME:CEST
DTSTART:20270328T010000
END:DAYLIGHT
BEGIN:STANDARD
TZOFFSETFROM:+0200
TZOFFSETTO:+0100
TZNAME:CET
DTSTART:20271031T010000
END:STANDARD
END:VTIMEZONE
BEGIN:VEVENT
DTSTART;TZID=Europe/Zurich:20260604T140000
DTEND;TZID=Europe/Zurich:20260604T170000
DTSTAMP:20260421T145515
CREATED:20250606T074110Z
LAST-MODIFIED:20250708T161108Z
UID:33274-1780581600-1780592400@grainedemarmotte.com
SUMMARY:Torrée Neuchâteloise
DESCRIPTION:\n			\n			\n				\n				\n				\n				\n				\n				\n				\n				\n				\n				Au parc du stand de tir de Vilarsau bout de la rue des Quatre-Tilleuls\, lisière de forêt\,2063 Vilars\, Val-de-RuzPour info: bus 421. \n			\n				\n				\n				\n				\n				Accès avec difficulté (0)(I)(II)Chemin de campagne \n			\n			\n				\n				\n				\n				\n				\n				\n			\n			\n				\n				\n				\n				\n				\n				\n				\n				\n				\n				12 personnes\nRéservé aux Séniors ayant assisté à au moins un atelier au cours de l’année\n			\n			\n				\n				\n				\n				\n			\n				\n				\n				\n				\n				\n				\n				\n				\n				\n				\n				Guide : Y. Delamadeleine \nNée dans les forêts neuchâteloises\, la torrée est une tradition culinaire qui consiste à cuire des saucissons sous la braise\, soigneusement emballés dans des feuilles de chou\, du papier et de la ficelle. Après environ 35 minutes de cuisson\, le « chant » du saucisson — ce léger sifflement caractéristique — signale qu’il est prêt.Servie chaude\, accompagnée d’une salade de pommes de terre\, la torrée est un moment de partage simple et chaleureux\, à vivre en plein air\, été comme hiver.Cette pratique est aujourd’hui inscrite au patrimoine culturel immatériel de l’UNESCO.Boissons\, thé\, café et autres à disposition pour prolonger le plaisir
URL:https://grainedemarmotte.com/evenement/torree-neuchateloise-4/
LOCATION:Au parc du stand de tir de Vilars\, rue des Quatre-Tilleuls\, Vilars\, Val-de-Ruz\, 2063\, Suisse
CATEGORIES:Neuchâtel,Neuchâtel 2026
ATTACH;FMTTYPE=image/png:https://grainedemarmotte.com/wp-content/uploads/2024/09/GDM_NE_TORREE.png
END:VEVENT
END:VCALENDAR