BEGIN:VCALENDAR
VERSION:2.0
PRODID:-//Graine de Marmotte - ECPv6.15.17.1//NONSGML v1.0//EN
CALSCALE:GREGORIAN
METHOD:PUBLISH
X-WR-CALNAME:Graine de Marmotte
X-ORIGINAL-URL:https://grainedemarmotte.com
X-WR-CALDESC:Évènements pour Graine de Marmotte
REFRESH-INTERVAL;VALUE=DURATION:PT1H
X-Robots-Tag:noindex
X-PUBLISHED-TTL:PT1H
BEGIN:VTIMEZONE
TZID:Europe/Zurich
BEGIN:DAYLIGHT
TZOFFSETFROM:+0100
TZOFFSETTO:+0200
TZNAME:CEST
DTSTART:20240331T010000
END:DAYLIGHT
BEGIN:STANDARD
TZOFFSETFROM:+0200
TZOFFSETTO:+0100
TZNAME:CET
DTSTART:20241027T010000
END:STANDARD
BEGIN:DAYLIGHT
TZOFFSETFROM:+0100
TZOFFSETTO:+0200
TZNAME:CEST
DTSTART:20250330T010000
END:DAYLIGHT
BEGIN:STANDARD
TZOFFSETFROM:+0200
TZOFFSETTO:+0100
TZNAME:CET
DTSTART:20251026T010000
END:STANDARD
BEGIN:DAYLIGHT
TZOFFSETFROM:+0100
TZOFFSETTO:+0200
TZNAME:CEST
DTSTART:20260329T010000
END:DAYLIGHT
BEGIN:STANDARD
TZOFFSETFROM:+0200
TZOFFSETTO:+0100
TZNAME:CET
DTSTART:20261025T010000
END:STANDARD
END:VTIMEZONE
BEGIN:VEVENT
DTSTART;TZID=Europe/Zurich:20251015T140000
DTEND;TZID=Europe/Zurich:20251015T170000
DTSTAMP:20260421T201623
CREATED:20250609T095256Z
LAST-MODIFIED:20250708T161127Z
UID:33333-1760536800-1760547600@grainedemarmotte.com
SUMMARY:Balade mycologique en forêt
DESCRIPTION:\n			\n			\n				\n				\n				\n				\n				\n				\n				\n				\n				\n				au parking du Chanet\, 2000 Neuchâtel \n			\n				\n				\n				\n				\n				Accès avec difficulté (II) (III)Accès chemin forestier \n			\n			\n				\n				\n				\n				\n				\n				\n			\n			\n				\n				\n				\n				\n				\n				\n				\n				\n				\n				12 personnes\n			\n			\n				\n				\n				\n				\n			\n				\n				\n				\n				\n				\n				\n				\n				\n				\n				\n				Guide : Y. Delamadeleine \nPartez à la découverte des champignons dans la forêt du Chanet\, peuplée d’épicéas\, de sapins blancs\, de chênes\, de hêtres et de myrtilliers.Sur ce sol acide pousse une grande variété d’espèces : Chanterelles\, Bolets\, Cornes d’abondance… mais aussi des champignons toxiques\, qu’il faut apprendre à reconnaître.La sortie comprend une cueillette sur le terrain\, une exposition commentée pour identifier les espèces\, et une dégustation de mets à base de champignons préparés pour l’occasion. \nUne expérience conviviale\, entre nature et gastronomie. \n 
URL:https://grainedemarmotte.com/evenement/une-animation-mycologique-dans-la-foret-de-peseux-avec-degustation-4/
LOCATION:Forêt de Chanet\, chemin chanet\, 6\, Neuchatel\, 2000\, Suisse
CATEGORIES:Neuchâtel,Neuchâtel 2026
ATTACH;FMTTYPE=image/png:https://grainedemarmotte.com/wp-content/uploads/2024/09/GDM_NECHAMPIGNON.png
END:VEVENT
END:VCALENDAR