BEGIN:VCALENDAR
VERSION:2.0
PRODID:-//Graine de Marmotte - ECPv6.15.17.1//NONSGML v1.0//EN
CALSCALE:GREGORIAN
METHOD:PUBLISH
X-ORIGINAL-URL:https://grainedemarmotte.com
X-WR-CALDESC:Évènements pour Graine de Marmotte
REFRESH-INTERVAL;VALUE=DURATION:PT1H
X-Robots-Tag:noindex
X-PUBLISHED-TTL:PT1H
BEGIN:VTIMEZONE
TZID:Europe/Zurich
BEGIN:DAYLIGHT
TZOFFSETFROM:+0100
TZOFFSETTO:+0200
TZNAME:CEST
DTSTART:20240331T010000
END:DAYLIGHT
BEGIN:STANDARD
TZOFFSETFROM:+0200
TZOFFSETTO:+0100
TZNAME:CET
DTSTART:20241027T010000
END:STANDARD
BEGIN:DAYLIGHT
TZOFFSETFROM:+0100
TZOFFSETTO:+0200
TZNAME:CEST
DTSTART:20250330T010000
END:DAYLIGHT
BEGIN:STANDARD
TZOFFSETFROM:+0200
TZOFFSETTO:+0100
TZNAME:CET
DTSTART:20251026T010000
END:STANDARD
BEGIN:DAYLIGHT
TZOFFSETFROM:+0100
TZOFFSETTO:+0200
TZNAME:CEST
DTSTART:20260329T010000
END:DAYLIGHT
BEGIN:STANDARD
TZOFFSETFROM:+0200
TZOFFSETTO:+0100
TZNAME:CET
DTSTART:20261025T010000
END:STANDARD
END:VTIMEZONE
BEGIN:VEVENT
DTSTART;TZID=Europe/Zurich:20250902T140000
DTEND;TZID=Europe/Zurich:20250902T160000
DTSTAMP:20260423T123928
CREATED:20250609T090300Z
LAST-MODIFIED:20250708T160942Z
UID:33296-1756821600-1756828800@grainedemarmotte.com
SUMMARY:Mäder SA\, dans les coulisses des traditions
DESCRIPTION:\n			\n			\n				\n				\n				\n				\n				\n				\n				\n				\n				\n				Boulangerie-Pâtisserie Mäder SA\, Rue du Seyon 22\, 2000 Neuchâtel\n			\n				\n				\n				\n				\n				Accès avec difficulté (II) (III)Accés goudronné\, escaliers étroit\, un étage \n			\n			\n				\n				\n				\n				\n				\n				\n			\n			\n				\n				\n				\n				\n				\n				\n				\n				\n				\n				12 personnes\n			\n			\n				\n				\n				\n				\n			\n				\n				\n				\n				\n				\n				\n				\n				\n				\n				\n				Guide : M. Mäder \nDepuis deux générations\, la Boulangerie-Pâtisserie Mäder est une adresse incontournable à Neuchâtel. Véritable institution locale\, elle perpétue un savoir-faire artisanal avec passion et exigence.Laissez-vous envoûter par l’arôme du pain « traditionnel »\, pétri et cuit sur place\, comme autrefois.Pains\, viennoiseries\, pâtisseries… chaque création est une promesse de qualité et de plaisir. \nChez Mäder\, on vient pour le goût… et on revient pour l’âme du lieu.
URL:https://grainedemarmotte.com/evenement/mader-sa-dans-les-coulisses-des-traditions/
LOCATION:Boulangerie-Pâtisserie Mäder SA\, Rue du Seyon 22\, Neuchâtel\, 2000\, Suisse
CATEGORIES:Neuchâtel,Neuchâtel 2026
ATTACH;FMTTYPE=image/png:https://grainedemarmotte.com/wp-content/uploads/2025/06/GDM_NE_MADER.png
END:VEVENT
BEGIN:VEVENT
DTSTART;TZID=Europe/Zurich:20250911T140000
DTEND;TZID=Europe/Zurich:20250911T170000
DTSTAMP:20260423T123928
CREATED:20250609T085844Z
LAST-MODIFIED:20250708T161137Z
UID:33292-1757599200-1757610000@grainedemarmotte.com
SUMMARY:Château de Neuchâtel et Jardin du Prince
DESCRIPTION:\n			\n			\n				\n				\n				\n				\n				\n				\n				\n				\n				\n				dans la cour d’entrée du Château de Neuchâtel \n			\n				\n				\n				\n				\n				Accès avec difficulté (II) (III)accès goudronné- pavé  \n			\n			\n				\n				\n				\n				\n				\n				\n			\n			\n				\n				\n				\n				\n				\n				\n				\n				\n				\n				12 personnes\n			\n			\n				\n				\n				\n				\n			\n				\n				\n				\n				\n				\n				\n				\n				\n				\n				\n				Guide : collaborateur du Château et Y. Delamadeleine \nLa visite débute par une découverte guidée du Château de Neuchâtel\, avec un accès exceptionnel à des salles habituellement fermées au public. Vous traversez ensuite le Jardin du Prince\, aménagé en 1810 par le prince Berthier\, avant d’emprunter le chemin des zigzags qui descend jusqu’à la rue de l’Evole.La balade se poursuit le long du Seyon jusqu’au lac\, avec une arrivée par la Baie de l’Evole à la Place Pury. Un itinéraire entre patrimoine\, nature et panoramas remarquables. \n 
URL:https://grainedemarmotte.com/evenement/chateau-de-neuchatel-et-jardin-du-prince-2/
LOCATION:Château de Neuchâtel\, Rue du Chateau 1\, Neuchâtel\, 2000\, Switzerland
CATEGORIES:Neuchâtel,Neuchâtel 2026
ATTACH;FMTTYPE=image/png:https://grainedemarmotte.com/wp-content/uploads/2025/06/GDM_NE_CHATEAU.png
END:VEVENT
END:VCALENDAR